BEGIN:VCALENDAR
VERSION:2.0
PRODID:-//Boromeuszki Trzebnica - ECPv6.15.17//NONSGML v1.0//EN
CALSCALE:GREGORIAN
METHOD:PUBLISH
X-ORIGINAL-URL:https://boromeuszki.pl
X-WR-CALDESC:Wydarzenia dla Boromeuszki Trzebnica
REFRESH-INTERVAL;VALUE=DURATION:PT1H
X-Robots-Tag:noindex
X-PUBLISHED-TTL:PT1H
BEGIN:VTIMEZONE
TZID:Europe/Warsaw
BEGIN:DAYLIGHT
TZOFFSETFROM:+0100
TZOFFSETTO:+0200
TZNAME:CEST
DTSTART:20240331T010000
END:DAYLIGHT
BEGIN:STANDARD
TZOFFSETFROM:+0200
TZOFFSETTO:+0100
TZNAME:CET
DTSTART:20241027T010000
END:STANDARD
BEGIN:DAYLIGHT
TZOFFSETFROM:+0100
TZOFFSETTO:+0200
TZNAME:CEST
DTSTART:20250330T010000
END:DAYLIGHT
BEGIN:STANDARD
TZOFFSETFROM:+0200
TZOFFSETTO:+0100
TZNAME:CET
DTSTART:20251026T010000
END:STANDARD
BEGIN:DAYLIGHT
TZOFFSETFROM:+0100
TZOFFSETTO:+0200
TZNAME:CEST
DTSTART:20260329T010000
END:DAYLIGHT
BEGIN:STANDARD
TZOFFSETFROM:+0200
TZOFFSETTO:+0100
TZNAME:CET
DTSTART:20261025T010000
END:STANDARD
END:VTIMEZONE
BEGIN:VEVENT
DTSTART;VALUE=DATE:20250324
DTEND;VALUE=DATE:20250330
DTSTAMP:20260421T102521
CREATED:20250324T062026Z
LAST-MODIFIED:20250329T185327Z
UID:32935-1742774400-1743292799@boromeuszki.pl
SUMMARY:Nasze zakonne rekolekcje
DESCRIPTION:24 marca 2025 roku rozpoczynamy nasze wspólnotowe rekolekcje zakonne. Pamiętamy w modlitwie o wszystkich powierzonych nam intencjach\, a także prosimy o modlitwę!\nSiostry Boromeuszki 
URL:https://boromeuszki.pl/wydarzenie/nasze-zakonne-rekolekcje/
ATTACH;FMTTYPE=image/png:https://boromeuszki.pl/wp-content/uploads/2025/03/Boromeuszki_Miniatury-1.png
END:VEVENT
END:VCALENDAR